Package: MGFR Version: 1.36.0 Command: /Library/Frameworks/R.framework/Resources/bin/R CMD build --keep-empty-dirs --no-resave-data MGFR StartedAt: 2025-11-06 16:59:53 -0500 (Thu, 06 Nov 2025) EndedAt: 2025-11-06 17:00:06 -0500 (Thu, 06 Nov 2025) EllapsedTime: 12.1 seconds RetCode: 1 Status: ERROR PackageFile: None PackageFileSize: NA