Package: MGFM Version: 1.44.0 Command: /Library/Frameworks/R.framework/Resources/bin/R CMD INSTALL MGFM StartedAt: 2025-11-09 15:09:30 -0500 (Sun, 09 Nov 2025) EndedAt: 2025-11-09 15:09:35 -0500 (Sun, 09 Nov 2025) EllapsedTime: 5.0 seconds RetCode: 0 Status: OK