Package: MEIGOR Version: 1.44.0 Command: /home/biocbuild/bbs-3.22-bioc/R/bin/R CMD INSTALL MEIGOR StartedAt: 2025-11-06 15:24:20 -0500 (Thu, 06 Nov 2025) EndedAt: 2025-11-06 15:24:30 -0500 (Thu, 06 Nov 2025) EllapsedTime: 10.2 seconds RetCode: 0 Status: OK