Package: MEIGOR Version: 1.44.0 Command: /home/biocbuild/bbs-3.22-bioc/R/bin/R CMD build --keep-empty-dirs --no-resave-data --md5 MEIGOR StartedAt: 2025-11-06 18:31:20 -0500 (Thu, 06 Nov 2025) EndedAt: 2025-11-06 18:32:06 -0500 (Thu, 06 Nov 2025) EllapsedTime: 46.0 seconds RetCode: 0 Status: OK PackageFile: MEIGOR_1.44.0.tar.gz PackageFileSize: 1.578 MiB