Package: MEB Version: 1.23.1 Command: /home/biocbuild/R/R/bin/R CMD build --keep-empty-dirs --no-resave-data MEB StartedAt: 2025-10-21 01:00:26 -0000 (Tue, 21 Oct 2025) EndedAt: 2025-10-21 01:01:26 -0000 (Tue, 21 Oct 2025) EllapsedTime: 60.0 seconds RetCode: 0 Status: OK PackageFile: MEB_1.23.1.tar.gz PackageFileSize: 1.044 MiB