Package: MEB Version: 1.24.0 Command: /home/biocbuild/bbs-3.22-bioc/R/bin/R CMD check --install=check:MEB.install-out.txt --library=/home/biocbuild/bbs-3.22-bioc/R/site-library --timings MEB_1.24.0.tar.gz StartedAt: 2025-11-10 01:20:05 -0500 (Mon, 10 Nov 2025) EndedAt: 2025-11-10 01:23:35 -0500 (Mon, 10 Nov 2025) EllapsedTime: 209.1 seconds RetCode: 0 Status: OK CheckDir: MEB.Rcheck Warnings: 0