Package: MEAL Version: 1.38.0 Command: E:\biocbuild\bbs-3.21-bioc\R\bin\R.exe CMD check --no-multiarch --install=check:MEAL.install-out.txt --library=E:\biocbuild\bbs-3.21-bioc\R\library --no-vignettes --timings MEAL_1.38.0.tar.gz StartedAt: 2025-08-15 03:49:39 -0400 (Fri, 15 Aug 2025) EndedAt: 2025-08-15 03:56:26 -0400 (Fri, 15 Aug 2025) EllapsedTime: 407.1 seconds RetCode: 0 Status: WARNINGS CheckDir: MEAL.Rcheck Warnings: 2