Package: MEAL Version: 1.38.0 Command: /home/biocbuild/bbs-3.21-bioc/R/bin/R CMD INSTALL MEAL StartedAt: 2025-10-15 16:04:37 -0400 (Wed, 15 Oct 2025) EndedAt: 2025-10-15 16:05:18 -0400 (Wed, 15 Oct 2025) EllapsedTime: 41.4 seconds RetCode: 0 Status: OK