Package: MEAL Version: 1.38.0 Command: /home/biocbuild/bbs-3.21-bioc/R/bin/R CMD check --install=check:MEAL.install-out.txt --library=/home/biocbuild/bbs-3.21-bioc/R/site-library --timings MEAL_1.38.0.tar.gz StartedAt: 2025-10-16 00:44:13 -0400 (Thu, 16 Oct 2025) EndedAt: 2025-10-16 00:57:07 -0400 (Thu, 16 Oct 2025) EllapsedTime: 773.9 seconds RetCode: 0 Status: WARNINGS CheckDir: MEAL.Rcheck Warnings: 2