Package: MEAL Version: 1.38.0 Command: /home/biocbuild/bbs-3.21-bioc/R/bin/R CMD build --keep-empty-dirs --no-resave-data MEAL StartedAt: 2025-10-15 18:21:27 -0400 (Wed, 15 Oct 2025) EndedAt: 2025-10-15 18:28:18 -0400 (Wed, 15 Oct 2025) EllapsedTime: 410.4 seconds RetCode: 0 Status: OK PackageFile: MEAL_1.38.0.tar.gz PackageFileSize: 2.078 MiB