Package: MBttest Version: 1.38.0 Maintainer: Yuan-De Tan MaintainerEmail: tanyuande at gmail.com git_url: https://git.bioconductor.org/packages/MBttest git_branch: RELEASE_3_22 git_last_commit: 555f2e5 git_last_commit_date: 2025-10-29 10:45:27 -0500 (Wed, 29 Oct 2025)