Package: MBQN Version: 2.22.0 Command: /home/biocbuild/bbs-3.22-bioc/R/bin/R CMD INSTALL MBQN StartedAt: 2025-11-06 15:21:17 -0500 (Thu, 06 Nov 2025) EndedAt: 2025-11-06 15:21:20 -0500 (Thu, 06 Nov 2025) EllapsedTime: 3.0 seconds RetCode: 0 Status: OK