Package: MBQN Version: 2.22.0 Command: /home/biocbuild/bbs-3.22-bioc/R/bin/R CMD build --keep-empty-dirs --no-resave-data --md5 MBQN StartedAt: 2025-11-06 18:30:09 -0500 (Thu, 06 Nov 2025) EndedAt: 2025-11-06 18:30:17 -0500 (Thu, 06 Nov 2025) EllapsedTime: 8.0 seconds RetCode: 0 Status: OK PackageFile: MBQN_2.22.0.tar.gz PackageFileSize: 214.6 KiB