Package: MBQN Version: 2.22.0 Command: /Library/Frameworks/R.framework/Resources/bin/R CMD check --install=check:MBQN.install-out.txt --library=/Library/Frameworks/R.framework/Resources/library --no-vignettes --timings MBQN_2.22.0.tar.gz StartedAt: 2025-11-05 21:04:02 -0500 (Wed, 05 Nov 2025) EndedAt: 2025-11-05 21:04:16 -0500 (Wed, 05 Nov 2025) EllapsedTime: 14.1 seconds RetCode: 0 Status: OK CheckDir: MBQN.Rcheck Warnings: 0