Package: MBCB Version: 1.64.0 Command: /Library/Frameworks/R.framework/Resources/bin/R CMD build --keep-empty-dirs --no-resave-data MBCB StartedAt: 2025-11-03 17:37:03 -0500 (Mon, 03 Nov 2025) EndedAt: 2025-11-03 17:37:15 -0500 (Mon, 03 Nov 2025) EllapsedTime: 12.6 seconds RetCode: 0 Status: OK PackageFile: MBCB_1.64.0.tar.gz PackageFileSize: 409.3 KiB