Package: MBAmethyl Version: 1.42.0 Command: rm -rf MBAmethyl.buildbin-libdir && mkdir MBAmethyl.buildbin-libdir && /Users/biocbuild/BBS/utils/build-universal.sh MBAmethyl_1.42.0.tar.gz /Library/Frameworks/R.framework/Resources/bin/R MBAmethyl.buildbin-libdir StartedAt: 2025-10-07 13:37:41 -0400 (Tue, 07 Oct 2025) EndedAt: 2025-10-07 13:37:48 -0400 (Tue, 07 Oct 2025) EllapsedTime: 6.4 seconds RetCode: 0 Status: OK PackageFile: MBAmethyl_1.42.0.tgz PackageFileSize: 110.5 KiB