Package: MAPFX Version: 1.6.0 Command: /home/biocbuild/R/R/bin/R CMD INSTALL MAPFX StartedAt: 2025-11-20 22:03:04 -0000 (Thu, 20 Nov 2025) EndedAt: 2025-11-20 22:03:39 -0000 (Thu, 20 Nov 2025) EllapsedTime: 34.8 seconds RetCode: 0 Status: OK