Package: MAPFX Version: 1.6.0 Command: /home/biocbuild/R/R/bin/R CMD check --install=check:MAPFX.install-out.txt --library=/home/biocbuild/R/R/site-library --no-vignettes --timings MAPFX_1.6.0.tar.gz StartedAt: 2025-11-21 12:24:38 -0000 (Fri, 21 Nov 2025) EndedAt: 2025-11-21 12:38:24 -0000 (Fri, 21 Nov 2025) EllapsedTime: 825.9 seconds RetCode: 0 Status: OK CheckDir: MAPFX.Rcheck Warnings: 0