Package: MAPFX Version: 1.6.0 Command: /home/biocbuild/R/R/bin/R CMD build --keep-empty-dirs --no-resave-data MAPFX StartedAt: 2025-11-21 03:35:16 -0000 (Fri, 21 Nov 2025) EndedAt: 2025-11-21 03:45:07 -0000 (Fri, 21 Nov 2025) EllapsedTime: 591.2 seconds RetCode: 0 Status: OK PackageFile: MAPFX_1.6.0.tar.gz PackageFileSize: 3.569 MiB