Package: MAPFX Version: 1.6.0 Command: /home/biocbuild/bbs-3.22-bioc/R/bin/R CMD check --install=check:MAPFX.install-out.txt --library=/home/biocbuild/bbs-3.22-bioc/R/site-library --timings MAPFX_1.6.0.tar.gz StartedAt: 2025-11-21 01:46:16 -0500 (Fri, 21 Nov 2025) EndedAt: 2025-11-21 02:03:55 -0500 (Fri, 21 Nov 2025) EllapsedTime: 1059.1 seconds RetCode: 0 Status: OK CheckDir: MAPFX.Rcheck Warnings: 0