Package: MAPFX Version: 1.6.0 Command: /Library/Frameworks/R.framework/Resources/bin/R CMD INSTALL MAPFX StartedAt: 2025-11-20 16:11:03 -0500 (Thu, 20 Nov 2025) EndedAt: 2025-11-20 16:11:45 -0500 (Thu, 20 Nov 2025) EllapsedTime: 41.3 seconds RetCode: 0 Status: OK