Package: MAPFX Version: 1.6.0 Command: /Library/Frameworks/R.framework/Resources/bin/R CMD build --keep-empty-dirs --no-resave-data MAPFX StartedAt: 2025-11-20 21:17:01 -0500 (Thu, 20 Nov 2025) EndedAt: 2025-11-20 21:31:38 -0500 (Thu, 20 Nov 2025) EllapsedTime: 876.9 seconds RetCode: 0 Status: OK PackageFile: MAPFX_1.6.0.tar.gz PackageFileSize: 3.543 MiB