Package: MAPFX Version: 1.6.0 Command: /Library/Frameworks/R.framework/Resources/bin/R CMD check --install=check:MAPFX.install-out.txt --library=/Library/Frameworks/R.framework/Resources/library --no-vignettes --timings MAPFX_1.6.0.tar.gz StartedAt: 2025-11-22 09:52:53 -0500 (Sat, 22 Nov 2025) EndedAt: 2025-11-22 10:13:49 -0500 (Sat, 22 Nov 2025) EllapsedTime: 1255.9 seconds RetCode: 0 Status: OK CheckDir: MAPFX.Rcheck Warnings: 0