Package: MAPFX Version: 1.6.0 Command: /Library/Frameworks/R.framework/Resources/bin/R CMD build --keep-empty-dirs --no-resave-data MAPFX StartedAt: 2025-11-21 04:09:34 -0500 (Fri, 21 Nov 2025) EndedAt: 2025-11-21 04:20:45 -0500 (Fri, 21 Nov 2025) EllapsedTime: 670.3 seconds RetCode: 0 Status: OK PackageFile: MAPFX_1.6.0.tar.gz PackageFileSize: 3.543 MiB