Package: MAPFX Version: 1.6.0 Command: rm -rf MAPFX.buildbin-libdir && mkdir MAPFX.buildbin-libdir && /Users/biocbuild/BBS/utils/build-universal.sh MAPFX_1.6.0.tar.gz /Library/Frameworks/R.framework/Resources/bin/R MAPFX.buildbin-libdir StartedAt: 2025-11-23 09:31:42 -0500 (Sun, 23 Nov 2025) EndedAt: 2025-11-23 09:32:24 -0500 (Sun, 23 Nov 2025) EllapsedTime: 42.0 seconds RetCode: 0 Status: OK PackageFile: MAPFX_1.6.0.tgz PackageFileSize: 2.506 MiB