Package: MANOR Version: 1.81.0 Command: /home/biocbuild/R/R/bin/R CMD check --install=check:MANOR.install-out.txt --library=/home/biocbuild/R/R/site-library --no-vignettes --timings MANOR_1.81.0.tar.gz StartedAt: 2025-10-17 10:40:06 -0000 (Fri, 17 Oct 2025) EndedAt: 2025-10-17 10:40:40 -0000 (Fri, 17 Oct 2025) EllapsedTime: 34.1 seconds RetCode: 0 Status: OK CheckDir: MANOR.Rcheck Warnings: 0