Package: MANOR Version: 1.81.0 Command: /home/biocbuild/R/R/bin/R CMD build --keep-empty-dirs --no-resave-data MANOR StartedAt: 2025-10-21 00:53:09 -0000 (Tue, 21 Oct 2025) EndedAt: 2025-10-21 00:54:00 -0000 (Tue, 21 Oct 2025) EllapsedTime: 51.0 seconds RetCode: 0 Status: OK PackageFile: MANOR_1.81.0.tar.gz PackageFileSize: 947.3 KiB