Package: MANOR Version: 1.82.0 Command: /home/biocbuild/bbs-3.22-bioc/R/bin/R CMD INSTALL MANOR StartedAt: 2025-11-02 15:09:12 -0500 (Sun, 02 Nov 2025) EndedAt: 2025-11-02 15:09:31 -0500 (Sun, 02 Nov 2025) EllapsedTime: 18.9 seconds RetCode: 0 Status: OK