Package: MANOR Version: 1.82.0 Command: /home/biocbuild/bbs-3.22-bioc/R/bin/R CMD build --keep-empty-dirs --no-resave-data --md5 MANOR StartedAt: 2025-11-03 18:28:08 -0500 (Mon, 03 Nov 2025) EndedAt: 2025-11-03 18:28:50 -0500 (Mon, 03 Nov 2025) EllapsedTime: 42.0 seconds RetCode: 0 Status: OK PackageFile: MANOR_1.82.0.tar.gz PackageFileSize: 1.478 MiB