Package: MANOR Version: 1.82.0 Command: /Library/Frameworks/R.framework/Resources/bin/R CMD INSTALL MANOR StartedAt: 2025-10-31 15:05:08 -0400 (Fri, 31 Oct 2025) EndedAt: 2025-10-31 15:05:13 -0400 (Fri, 31 Oct 2025) EllapsedTime: 4.8 seconds RetCode: 0 Status: OK