Package: MANOR Version: 1.82.0 Command: /Library/Frameworks/R.framework/Resources/bin/R CMD check --install=check:MANOR.install-out.txt --library=/Library/Frameworks/R.framework/Resources/library --no-vignettes --timings MANOR_1.82.0.tar.gz StartedAt: 2025-10-31 20:33:48 -0400 (Fri, 31 Oct 2025) EndedAt: 2025-10-31 20:34:04 -0400 (Fri, 31 Oct 2025) EllapsedTime: 16.2 seconds RetCode: 0 Status: OK CheckDir: MANOR.Rcheck Warnings: 0