Package: MANOR Version: 1.80.0 Command: /Library/Frameworks/R.framework/Resources/bin/R CMD check --install=check:MANOR.install-out.txt --library=/Library/Frameworks/R.framework/Resources/library --no-vignettes --timings MANOR_1.80.0.tar.gz StartedAt: 2025-10-15 02:16:28 -0400 (Wed, 15 Oct 2025) EndedAt: 2025-10-15 02:17:12 -0400 (Wed, 15 Oct 2025) EllapsedTime: 43.8 seconds RetCode: 0 Status: OK CheckDir: MANOR.Rcheck Warnings: 0