Package: MANOR Version: 1.80.0 Command: /Library/Frameworks/R.framework/Resources/bin/R CMD build --keep-empty-dirs --no-resave-data MANOR StartedAt: 2025-10-14 03:24:43 -0400 (Tue, 14 Oct 2025) EndedAt: 2025-10-14 03:25:31 -0400 (Tue, 14 Oct 2025) EllapsedTime: 48.5 seconds RetCode: 0 Status: OK PackageFile: MANOR_1.80.0.tar.gz PackageFileSize: 1.696 MiB