Package: MAIT Version: 1.43.0 Command: F:\biocbuild\bbs-3.22-bioc\R\bin\R.exe CMD check --no-multiarch --install=check:MAIT.install-out.txt --library=F:\biocbuild\bbs-3.22-bioc\R\library --no-vignettes --timings MAIT_1.43.0.tar.gz StartedAt: 2025-08-15 04:44:01 -0400 (Fri, 15 Aug 2025) EndedAt: 2025-08-15 04:53:05 -0400 (Fri, 15 Aug 2025) EllapsedTime: 543.7 seconds RetCode: 0 Status: OK CheckDir: MAIT.Rcheck Warnings: 0