Package: MAIT Version: 1.43.0 Command: rm -rf MAIT.buildbin-libdir && mkdir MAIT.buildbin-libdir && F:\biocbuild\bbs-3.22-bioc\R\bin\R.exe CMD INSTALL --build --library=MAIT.buildbin-libdir MAIT_1.43.0.tar.gz StartedAt: 2025-08-15 10:37:09 -0400 (Fri, 15 Aug 2025) EndedAt: 2025-08-15 10:38:31 -0400 (Fri, 15 Aug 2025) EllapsedTime: 82.1 seconds RetCode: 0 Status: OK PackageFile: MAIT_1.43.0.zip PackageFileSize: 900.8 KiB