Package: MAIT Version: 1.44.0 Command: /home/biocbuild/bbs-3.22-bioc/R/bin/R CMD check --install=check:MAIT.install-out.txt --library=/home/biocbuild/bbs-3.22-bioc/R/site-library --timings MAIT_1.44.0.tar.gz StartedAt: 2025-11-15 01:13:57 -0500 (Sat, 15 Nov 2025) EndedAt: 2025-11-15 01:23:40 -0500 (Sat, 15 Nov 2025) EllapsedTime: 583.5 seconds RetCode: 0 Status: OK CheckDir: MAIT.Rcheck Warnings: 0