Package: MAGeCKFlute Version: 2.12.0 Command: /home/biocbuild/bbs-3.21-bioc/R/bin/R CMD INSTALL MAGeCKFlute StartedAt: 2025-10-15 15:49:07 -0400 (Wed, 15 Oct 2025) EndedAt: 2025-10-15 15:49:37 -0400 (Wed, 15 Oct 2025) EllapsedTime: 30.2 seconds RetCode: 0 Status: OK