Package: MAGeCKFlute Version: 2.12.0 Command: /Library/Frameworks/R.framework/Resources/bin/R CMD INSTALL MAGeCKFlute StartedAt: 2025-04-21 15:39:16 -0400 (Mon, 21 Apr 2025) EndedAt: 2025-04-21 15:39:58 -0400 (Mon, 21 Apr 2025) EllapsedTime: 41.7 seconds RetCode: 0 Status: OK