Package: MAGeCKFlute Version: 2.12.0 Command: /home/biocbuild/R/R/bin/R CMD INSTALL MAGeCKFlute StartedAt: 2025-10-13 21:07:47 -0000 (Mon, 13 Oct 2025) EndedAt: 2025-10-13 21:08:30 -0000 (Mon, 13 Oct 2025) EllapsedTime: 42.3 seconds RetCode: 0 Status: OK