Package: MAGeCKFlute Version: 2.12.0 Command: /Library/Frameworks/R.framework/Resources/bin/R CMD build --keep-empty-dirs --no-resave-data MAGeCKFlute StartedAt: 2025-04-21 16:48:25 -0400 (Mon, 21 Apr 2025) EndedAt: 2025-04-21 16:49:37 -0400 (Mon, 21 Apr 2025) EllapsedTime: 71.8 seconds RetCode: 1 Status: ERROR PackageFile: None PackageFileSize: NA