Package: MAGAR Version: 1.17.0 Command: F:\biocbuild\bbs-3.22-bioc\R\bin\R.exe CMD check --no-multiarch --install=check:MAGAR.install-out.txt --library=F:\biocbuild\bbs-3.22-bioc\R\library --no-vignettes --timings MAGAR_1.17.0.tar.gz StartedAt: 2025-08-15 04:43:03 -0400 (Fri, 15 Aug 2025) EndedAt: 2025-08-15 04:52:13 -0400 (Fri, 15 Aug 2025) EllapsedTime: 549.8 seconds RetCode: 0 Status: OK CheckDir: MAGAR.Rcheck Warnings: 0