Package: MADSEQ Version: 1.34.0 Command: /Library/Frameworks/R.framework/Resources/bin/R CMD check --install=check:MADSEQ.install-out.txt --library=/Library/Frameworks/R.framework/Resources/library --no-vignettes --timings MADSEQ_1.34.0.tar.gz StartedAt: 2025-10-14 05:55:53 -0400 (Tue, 14 Oct 2025) EndedAt: 2025-10-14 06:06:13 -0400 (Tue, 14 Oct 2025) EllapsedTime: 620.2 seconds RetCode: 0 Status: OK CheckDir: MADSEQ.Rcheck Warnings: 0