Package: MADSEQ Version: 1.34.0 Command: /Library/Frameworks/R.framework/Resources/bin/R CMD build --keep-empty-dirs --no-resave-data MADSEQ StartedAt: 2025-10-13 20:09:45 -0400 (Mon, 13 Oct 2025) EndedAt: 2025-10-13 20:12:21 -0400 (Mon, 13 Oct 2025) EllapsedTime: 155.8 seconds RetCode: 0 Status: OK PackageFile: MADSEQ_1.34.0.tar.gz PackageFileSize: 2.031 MiB