Package: MACSr Version: 1.18.0 Command: /home/biocbuild/bbs-3.22-bioc/R/bin/R CMD INSTALL MACSr StartedAt: 2025-11-05 15:35:16 -0500 (Wed, 05 Nov 2025) EndedAt: 2025-11-05 15:35:31 -0500 (Wed, 05 Nov 2025) EllapsedTime: 15.2 seconds RetCode: 0 Status: OK