Package: LoomExperiment Version: 1.26.1 Command: /Library/Frameworks/R.framework/Resources/bin/R CMD INSTALL LoomExperiment StartedAt: 2025-09-29 16:03:36 -0400 (Mon, 29 Sep 2025) EndedAt: 2025-09-29 16:04:38 -0400 (Mon, 29 Sep 2025) EllapsedTime: 61.9 seconds RetCode: 0 Status: OK