Package: LoomExperiment Version: 1.26.1 Command: /Library/Frameworks/R.framework/Resources/bin/R CMD check --install=check:LoomExperiment.install-out.txt --library=/Library/Frameworks/R.framework/Resources/library --no-vignettes --timings LoomExperiment_1.26.1.tar.gz StartedAt: 2025-09-30 05:40:19 -0400 (Tue, 30 Sep 2025) EndedAt: 2025-09-30 05:47:17 -0400 (Tue, 30 Sep 2025) EllapsedTime: 418.4 seconds RetCode: 0 Status: OK CheckDir: LoomExperiment.Rcheck Warnings: 0