Package: LoomExperiment Version: 1.26.1 Command: /Library/Frameworks/R.framework/Resources/bin/R CMD build --keep-empty-dirs --no-resave-data LoomExperiment StartedAt: 2025-09-29 20:08:46 -0400 (Mon, 29 Sep 2025) EndedAt: 2025-09-29 20:10:20 -0400 (Mon, 29 Sep 2025) EllapsedTime: 93.3 seconds RetCode: 0 Status: OK PackageFile: LoomExperiment_1.26.1.tar.gz PackageFileSize: 252.9 KiB