Package: LoomExperiment Version: 1.26.1 Command: rm -rf LoomExperiment.buildbin-libdir && mkdir LoomExperiment.buildbin-libdir && /Users/biocbuild/BBS/utils/build-universal.sh LoomExperiment_1.26.1.tar.gz /Library/Frameworks/R.framework/Resources/bin/R LoomExperiment.buildbin-libdir StartedAt: 2025-09-30 13:36:38 -0400 (Tue, 30 Sep 2025) EndedAt: 2025-09-30 13:38:15 -0400 (Tue, 30 Sep 2025) EllapsedTime: 96.3 seconds RetCode: 0 Status: OK PackageFile: LoomExperiment_1.26.1.tgz PackageFileSize: 871.6 KiB