Package: LipidTrend Version: 0.99.1 Command: chmod a+r LipidTrend -R && F:\biocbuild\bbs-3.22-bioc\R\bin\R.exe CMD build --keep-empty-dirs --no-resave-data LipidTrend StartedAt: 2025-08-14 21:08:44 -0400 (Thu, 14 Aug 2025) EndedAt: 2025-08-14 21:09:47 -0400 (Thu, 14 Aug 2025) EllapsedTime: 63.0 seconds RetCode: 0 Status: OK PackageFile: LipidTrend_0.99.1.tar.gz PackageFileSize: 433.4 KiB