Package: LipidTrend Version: 1.0.0 Command: /home/biocbuild/bbs-3.22-bioc/R/bin/R CMD INSTALL LipidTrend StartedAt: 2025-11-09 15:17:46 -0500 (Sun, 09 Nov 2025) EndedAt: 2025-11-09 15:18:11 -0500 (Sun, 09 Nov 2025) EllapsedTime: 24.8 seconds RetCode: 0 Status: OK